BEGIN:VCALENDAR
VERSION:2.0
PRODID:-//VCY.org - ECPv6.2.0//NONSGML v1.0//EN
CALSCALE:GREGORIAN
METHOD:PUBLISH
X-WR-CALNAME:VCY.org
X-ORIGINAL-URL:https://www.vcy.org
X-WR-CALDESC:Events for VCY.org
REFRESH-INTERVAL;VALUE=DURATION:PT1H
X-Robots-Tag:noindex
X-PUBLISHED-TTL:PT1H
BEGIN:VTIMEZONE
TZID:America/Chicago
BEGIN:DAYLIGHT
TZOFFSETFROM:-0600
TZOFFSETTO:-0500
TZNAME:CDT
DTSTART:20260308T080000
END:DAYLIGHT
BEGIN:STANDARD
TZOFFSETFROM:-0500
TZOFFSETTO:-0600
TZNAME:CST
DTSTART:20261101T070000
END:STANDARD
END:VTIMEZONE
BEGIN:VEVENT
DTSTART;TZID=America/Chicago:20260221T100000
DTEND;TZID=America/Chicago:20260509T120000
DTSTAMP:20260424T100244
CREATED:20260205T191316Z
LAST-MODIFIED:20260205T191316Z
UID:158163-1771668000-1778328000@www.vcy.org
SUMMARY:Bethany Baptist Church Grief Support Group
DESCRIPTION:Bethany Baptist Church in Dollar Bay announces their Grief Support Group Event.  GriefShare is a 12-week special help seminar for people experiencing grief and loss on Saturday mornings 10AM to 12PM beginning February 21st.  GriefShare features a weekly video with counsel and insights from experts followed by a time of sharing and support.  Bethany Baptist Church is located at 48544 Main Street in Dollar Bay.  For more information\, please visit their website bbcinchrist.org or call 906-482-6940.
URL:https://www.vcy.org/community-calendar/bethany-baptist-church-grief-support-group-4/
LOCATION:Bethany Baptist Church\, 48544 Main Street\, Dollar Bay\, MI\, 49922\, United States
CATEGORIES:WVCN
END:VEVENT
BEGIN:VEVENT
DTSTART;TZID=America/Chicago:20260401T080000
DTEND;TZID=America/Chicago:20260430T200000
DTSTAMP:20260424T100244
CREATED:20260330T191712Z
LAST-MODIFIED:20260330T191712Z
UID:158673-1775030400-1777579200@www.vcy.org
SUMMARY:Salina Rescue Mission Monthly Needs
DESCRIPTION:Salina Rescue Mission invites the community to join them as they minister to the hungry and homeless in the greater Salina Area.  They have announced their list of needed items for April 2026 to assist in their ministry.  Items they need include:  Jelly\, Tomato Sauce\, Kleenex\, Paper Towels\, and Q-Tips.  Salina Rescue Mission is located at 1716 Summers Road.  Donations may be delivered to the Mission seven days a week from 8AM to 8PM.  For more information\, please call 785-833-6743.
URL:https://www.vcy.org/community-calendar/salina-rescue-mission-monthly-needs-28/
LOCATION:Salina Rescue Mission\, 1716 Summers Road\, Salina\, KS\, 67402\, United States
CATEGORIES:KCVS
END:VEVENT
BEGIN:VEVENT
DTSTART;TZID=America/Chicago:20260425T090000
DTEND;TZID=America/Chicago:20260426T123000
DTSTAMP:20260424T100245
CREATED:20260416T175353Z
LAST-MODIFIED:20260416T175353Z
UID:158790-1777107600-1777206600@www.vcy.org
SUMMARY:Indian Hill Bible Church-Foreverland Prophecy Weekend
DESCRIPTION:Indian Hill Bible Church in Ingleside Illinois invites the public to their Foreverland Prophecy Weekend on Saturday April 25th from 9AM to 2:30PM and Sunday April 26th from 9AM to 12:30PM.  The featured speaker is Dr. Rock LaGioia of Grace Theological Seminary.  There is no cost to attend.  Registration is required.  Complimentary lunch and snacks will be served.  Indian Hill Bible Church is located at 36133 N Fairfield Road.  You may register at ihbchurch.org or by calling 847-946-7508.
URL:https://www.vcy.org/community-calendar/indian-hill-bible-church-foreverland-prophecy-weekend/
LOCATION:Indian Hill Bible Church\, 36133 N Fairfield Rd\, Ingleside\, IL\, 60041\, United States
CATEGORIES:WVCY-FM
END:VEVENT
BEGIN:VEVENT
DTSTART;TZID=America/Chicago:20260425T100000
DTEND;TZID=America/Chicago:20260425T120000
DTSTAMP:20260424T100245
CREATED:20260415T213425Z
LAST-MODIFIED:20260415T213425Z
UID:158778-1777111200-1777118400@www.vcy.org
SUMMARY:Public Allergy and Anaphylaxis Training Event
DESCRIPTION:The Nursing Department of Maranatha Baptist University and Hannah Helps will be holding a public allergy and anaphylaxis recognition and response training event on Saturday April 25th 10AM to Noon on the Maranatha campus at 745 West Main Street in Watertown.  You can learn about anaphylaxis and epinephrine administration through this hands-on training course.  There is no charge to attend.  To reserve your seat\, please call 608-921-5880.  Please register by April 22nd. 
URL:https://www.vcy.org/community-calendar/public-allergy-and-anaphylaxis-training-event/
LOCATION:Maranatha Baptist University\, 745 W Main St\, Watertown\, WI\, 53094\, United States
CATEGORIES:WVCY-FM
END:VEVENT
BEGIN:VEVENT
DTSTART;TZID=America/Chicago:20260425T103000
DTEND;TZID=America/Chicago:20260425T123000
DTSTAMP:20260424T100245
CREATED:20260416T134749Z
LAST-MODIFIED:20260416T134749Z
UID:158786-1777113000-1777120200@www.vcy.org
SUMMARY:Moms in Prayer International-Impact Gathering
DESCRIPTION:Moms in Prayer International is holding an Impact Gathering to show ladies how they can pray scripturally for their children and schools.  The event is free and open to all ladies.  It will take place on Saturday April 25th from 10:30 to 12:30PM at the Crossroads Branch of the Guernsey County Library\, 63500 Byesville Road in Cambridge.  For more information\, please call 614-309-3960 or 740-509-0373.
URL:https://www.vcy.org/community-calendar/moms-in-prayer-international-impact-gathering-2/
LOCATION:Guernsey County Library Crossroads Branch\, 63500 Byesville Road\, Cambridge\, OH\, 43725\, United States
CATEGORIES:WJIC
END:VEVENT
BEGIN:VEVENT
DTSTART;TZID=America/Chicago:20260425T113000
DTEND;TZID=America/Chicago:20260425T140000
DTSTAMP:20260424T100245
CREATED:20260422T154004Z
LAST-MODIFIED:20260422T154004Z
UID:158833-1777116600-1777125600@www.vcy.org
SUMMARY:Delaware Right to Life Annual Luncheon
DESCRIPTION:Delaware Pro-Life Coalition invites you to the Delaware Right to Life Annual Luncheon on Saturday April 25th from 11:30AM to 2PM.  Guest speakers Dr. Chris Cirucci and Laurie Chapman will be speaking on the topic “Abortion Pill Dangers”.  There is a cost to attend.  You may register at derighttolife.org.  The luncheon will be held at Newark Country Club 300 West Main Street in Newark\, Delaware.  For more information\, please call 302-593-7876.
URL:https://www.vcy.org/community-calendar/delaware-right-to-life-annual-luncheon/
LOCATION:Newark Country Club\, 300 W Main St\, Newark\, DE\, 19711\, United States
CATEGORIES:WVCW
END:VEVENT
BEGIN:VEVENT
DTSTART;TZID=America/Chicago:20260425T120000
DTEND;TZID=America/Chicago:20260425T140000
DTSTAMP:20260424T100245
CREATED:20260415T190446Z
LAST-MODIFIED:20260415T190809Z
UID:158774-1777118400-1777125600@www.vcy.org
SUMMARY:Scripture Signs Inc. Annual Meeting
DESCRIPTION:You are invited to the annual meeting for Scripture Signs Inc.  The meeting will take place on Saturday April 25th from 12:00PM Noon to 2PM at Family Baptist Church at 1001 Hemlock Street in Iron Mountain\, Michigan.  A luncheon will be provided followed by a more detailed update of the ministry and its progress.  For more information\, please call 715-336-2844 or 906-239-7631.
URL:https://www.vcy.org/community-calendar/scripture-signs-inc-annual-meeting/
LOCATION:Family Baptist Church\, 1001 S Hemlock St\, Iron Mountain\, MI\, 49801\, United States
CATEGORIES:WVCM,WVCN
END:VEVENT
BEGIN:VEVENT
DTSTART;TZID=America/Chicago:20260428T183000
DTEND;TZID=America/Chicago:20260428T200000
DTSTAMP:20260424T100245
CREATED:20260420T143405Z
LAST-MODIFIED:20260420T143405Z
UID:158817-1777401000-1777406400@www.vcy.org
SUMMARY:Creation Science Society of Milwaukee Seminar
DESCRIPTION:Creation Science Society of Milwaukee invites you to hear Jerry Frye present: “Creation Day 5: The Birds of the Air” on Tuesday April 28th from 6:30PM to 8:00PM at Brookside Baptist Church\, 4470 Pilgrim Road in Brookfield.  Doors open at 6:00PM.  Mr. Frye will explore the wonders of Creation such as Birds of Prey\, the Woodpecker\, Dragonflies\, Bats\, Butterflies\, and more as we see what the Lord has done.  There is no charge to attend.  For more information\, visit their website GenesisMatters.org or call 262-255-4643.
URL:https://www.vcy.org/community-calendar/creation-science-society-of-milwaukee-seminar-31/
LOCATION:Brookside Baptist Church\, 4470 Pilgrim Rd\, Brookfield\, 53005\, United States
CATEGORIES:WVCY-FM,WVCY-TV
END:VEVENT
BEGIN:VEVENT
DTSTART;TZID=America/Chicago:20260428T183000
DTEND;TZID=America/Chicago:20260428T203000
DTSTAMP:20260424T100245
CREATED:20260416T194907Z
LAST-MODIFIED:20260416T195108Z
UID:158801-1777401000-1777408200@www.vcy.org
SUMMARY:Falls Baptist "European Vignettes" Instrumental Concert
DESCRIPTION:Falls Baptist Music School would like to invite you to their “European Vignettes” instrumental concert on Tuesday April 28th at 6:30PM.  Tots through pre-college students will be performing.  Prior to the concert from 5 to 6:15PM will be a fundraiser dinner.  Falls Baptist Church is located at N69W12703 Appleton Avenue in Menomonee Falls\, Wisconsin.  For more information\, please visit their website fallsbaptist.org or call 262-251-7051.
URL:https://www.vcy.org/community-calendar/falls-baptist-european-vignettes-instrumental-concert/
LOCATION:Falls Baptist Church\, N69W12703 Appleton Avenue\, Menomonee Falls\, WI\, 53051\, United States
CATEGORIES:WVCY-FM,WVCY-TV
END:VEVENT
BEGIN:VEVENT
DTSTART;TZID=America/Chicago:20260502T100000
DTEND;TZID=America/Chicago:20260502T120000
DTSTAMP:20260424T100245
CREATED:20260406T212329Z
LAST-MODIFIED:20260406T212329Z
UID:158730-1777716000-1777723200@www.vcy.org
SUMMARY:Evangelical Child & Family Agency 42nd Anniversary Celebration Breakfast Buffet
DESCRIPTION:Evangelical Child & Family Agency in New Berlin invites you to their 42nd Anniversary Celebration Breakfast Buffet on Saturday May 2nd at 10AM.  Doors open at 9:30.  You’ll hear testimonies from ECFA’s adoption and pregnancy support services clients.  The Breakfast Buffet and Program take place at Davian’s located at N56W16300 Silver Spring Drive in Menomonee Falls.  There is a cost to attend.  An investment opportunity will also be given for the ministry of ECFA.  RSVP’s are required by April 20th as seating is limited.  To RSVP\, please visit their website ecfawisc.org or call 262-789-1881.
URL:https://www.vcy.org/community-calendar/evangelical-child-family-agency-42nd-anniversary-celebration-breakfast-buffet/
LOCATION:Davians\, N56W16300 Silver Spring Dr\, Menomonee Falls\, WI\, 53051\, United States
CATEGORIES:WVCY-FM,WVCY-TV
END:VEVENT
BEGIN:VEVENT
DTSTART;TZID=America/Chicago:20260502T100000
DTEND;TZID=America/Chicago:20260502T123000
DTSTAMP:20260424T100245
CREATED:20260416T190044Z
LAST-MODIFIED:20260416T190044Z
UID:158793-1777716000-1777725000@www.vcy.org
SUMMARY:Arrowhead Messianic Congregation hosts Usama Dakdok
DESCRIPTION:You’re invited to hear Usama Dakdok\, speaker on the radio broadcast\,  “Revealing the Truth about Islam”. \nOn Saturday May 2nd\, Usama will be speaking on “How to Witness to Muslims” at Arrowhead Messianic Congregation 10738 North 75th Avenue in Peoria.  Service time is at 10:17AM followed by the presentation at 11:15.  There is no cost to attend.  A freewill offering will be taken.  For more information\, call 941-223-1703.
URL:https://www.vcy.org/community-calendar/arrowhead-messianic-congregation-hosts-usama-dakdok/
LOCATION:Arrowhead Messianic Congregation\, 10738 N 75th Ave\, Peoria\, AZ\, 85345\, United States
CATEGORIES:KVCP
END:VEVENT
BEGIN:VEVENT
DTSTART;TZID=America/Chicago:20260502T160000
DTEND;TZID=America/Chicago:20260502T200000
DTSTAMP:20260424T100245
CREATED:20260421T211747Z
LAST-MODIFIED:20260421T211747Z
UID:158828-1777737600-1777752000@www.vcy.org
SUMMARY:Outstretched Hands of Romania "Friend Raiser"
DESCRIPTION:Outstretched Hands of Romania invites you to their “Friend Raiser” on Saturday May 2nd from 4 to 8PM at Poplar Creek Church in New Berlin.  Brad & Nora Hayes are celebrating the first 25 years.  There is a cost to attend.  Guest speaker is Brian Kluth.  A dinner buffet will be provided as you hear about the current events in Romania.  Poplar Creek Church is located at 17770 West Cleveland Avenue in New Berlin.  For more information\, please call 262-337-1008.
URL:https://www.vcy.org/community-calendar/outstretched-hands-of-romania-friend-raiser-2/
LOCATION:Poplar Creek Church\, 17770 W Cleveland Ave\, New Berlin\, WI\, 53146\, United States
CATEGORIES:WVCY-FM,WVCY-TV
END:VEVENT
BEGIN:VEVENT
DTSTART;TZID=America/Chicago:20260502T170000
DTEND;TZID=America/Chicago:20260503T180000
DTSTAMP:20260424T100245
CREATED:20260416T190638Z
LAST-MODIFIED:20260416T190638Z
UID:158796-1777741200-1777831200@www.vcy.org
SUMMARY:Westcoast Watchman Coalition-"The Truth about Islam Live" Conference
DESCRIPTION:You’re invited to hear Usama Dakdok\, speaker on the radio broadcast\,  “Revealing the Truth about Islam”.  \nThe Westcoast Watchman Coalition is hosting “The Truth about Islam Live” conference with Usama on Saturday May 2nd from 5 to 8PM and Sunday May 3rd from 3 to 6PM.  There is a cost to attend and tickets are required. The conference is at Arrowhead Messianic Congregation.  \nEach session will provide in-depth teaching with different content.  You may register at their website westcoastwatchman.org.  For more information\, call 941-223-1703.
URL:https://www.vcy.org/community-calendar/westcoast-watchman-coalition-the-truth-about-islam-live-conference/
LOCATION:Arrowhead Messianic Congregation\, 10738 N 75th Ave\, Peoria\, AZ\, 85345\, United States
CATEGORIES:KVCP
END:VEVENT
BEGIN:VEVENT
DTSTART;TZID=America/Chicago:20260504T190000
DTEND;TZID=America/Chicago:20260504T210000
DTSTAMP:20260424T100245
CREATED:20260422T175228Z
LAST-MODIFIED:20260422T175228Z
UID:158839-1777921200-1777928400@www.vcy.org
SUMMARY:Christ Church of Rapid City Concert
DESCRIPTION:Christ Church of Rapid City\, South Dakota will be hosting a gospel music concert by ‘The Craguns’ on Monday May 4th at 7PM.  There is no charge to attend.  A freewill offering will be received.  Christ Church is located at 1900 Evergreen Drive in Rapid City.  For more information\, please call 605-791-5591.
URL:https://www.vcy.org/community-calendar/christ-church-of-rapid-city-concert/
LOCATION:Christ Church of Rapid City\, 1900 Evergreen Dr\, Rapid City\, SD\, 57702\, United States
CATEGORIES:KVPC
END:VEVENT
BEGIN:VEVENT
DTSTART;TZID=America/Chicago:20260506T180000
DTEND;TZID=America/Chicago:20260506T210000
DTSTAMP:20260424T100245
CREATED:20260416T192144Z
LAST-MODIFIED:20260416T192144Z
UID:158798-1778090400-1778101200@www.vcy.org
SUMMARY:Westcoast Watchman Coalition-“The Truth about Islam Live” Conference
DESCRIPTION:You’re invited to hear Usama Dakdok\, speaker on the radio broadcast\,  “Revealing the Truth about Islam”. \nThe Westcoast Watchman Coalition will be hosting a Special Midweek Presentation with Usama on Wednesday May 6th from 6 to 9PM at 14145 West Palm Valley Boulevard in Goodyear.  There is a cost to attend and tickets are required.  \nYou may register at their website westcoastwatchman.org.  For more information\, call 941-223-1703.
URL:https://www.vcy.org/community-calendar/westcoast-watchman-coalition-the-truth-about-islam-live-conference-2/
LOCATION:Palm Valley Community Center\, 14145 W Palm Valley Blvd\, Goodyear\, AZ\, 85395\, United States
CATEGORIES:KVCP
END:VEVENT
BEGIN:VEVENT
DTSTART;TZID=America/Chicago:20260507T070000
DTEND;TZID=America/Chicago:20260507T190000
DTSTAMP:20260424T100245
CREATED:20260422T174404Z
LAST-MODIFIED:20260422T174404Z
UID:158837-1778137200-1778180400@www.vcy.org
SUMMARY:Licking County OH "Prayer Around the Square"
DESCRIPTION:The annual National Day of Prayer\, “Prayer Around the Square” for Licking County will be held at the Public Square in Newark\, Ohio from 7am to 7pm on Thursday May 7th.  This year’s theme is “A Time to Repent.” There will be 16 prayer stations posted around the Square.  You are invited to participate any time during the day to make intercession for the sins of our communities and nation.
URL:https://www.vcy.org/community-calendar/licking-county-oh-prayer-around-the-square/
LOCATION:Public Square\, 1 Courthouse Sq\, Newark\, OH\, 43055\, United States
CATEGORIES:WJIC
END:VEVENT
BEGIN:VEVENT
DTSTART;TZID=America/Chicago:20260608T090000
DTEND;TZID=America/Chicago:20260612T170000
DTSTAMP:20260424T100245
CREATED:20260326T135804Z
LAST-MODIFIED:20260326T135804Z
UID:158631-1780909200-1781283600@www.vcy.org
SUMMARY:Maranatha Baptist University Music and Drama Camp
DESCRIPTION:Maranatha Baptist University is hosting its annual Music and Drama Camp for those age 12 through high school.  This camp will be held June 8th through the 12th on their campus at 745 West Main Street in Watertown.  Participants will choose their track from band\, strings\, piano\, drama\, or stage crew in the scheduled production.  To register or for more information\, visit mbu.edu/camp or call 920-261-9300.  Participants registering by April 10th will receive a discount. 
URL:https://www.vcy.org/community-calendar/maranatha-baptist-university-music-and-drama-camp/
LOCATION:Maranatha Baptist University\, 745 W Main St\, Watertown\, WI\, 53094\, United States
CATEGORIES:WVCY-FM,WVCY-TV
END:VEVENT
END:VCALENDAR